BEGIN:VCALENDAR
PRODID:-//SVRV//Calendrier des matchs//FR
VERSION:2.0
METHOD:PUBLISH
X-MS-OLK-FORCEINSPECTOROPEN:TRUE
BEGIN:VEVENT
CLASS:PUBLIC
CREATED:20260420T150400
DESCRIPTION:Match 7500 | JORATAPÔ B3 / BANZAI A1 arbitre Detente   571 Collège Gustave Roud Route d'En Bas 39 JORAT-MEZIERES
DTEND:20250910T210000
DTSTAMP:20250910T200000
DTSTART:20250910T200000
LOCATION:571 Collège Gustave Roud JORAT-MEZIERES
PRIORITY:5
SEQUENCE:0
SUMMARY:JORATAPÔ B3  -  BANZAI A1
TRANSP:OPAQUE
UID:750020250910T20000020250910T210000
BEGIN:VALARM
TRIGGER:-PT1440M
ACTION:DISPLAY
DESCRIPTION:Reminder
END:VALARM
END:VEVENT
BEGIN:VEVENT
CLASS:PUBLIC
CREATED:20260420T150400
DESCRIPTION:Match 5028 | 
DTEND:20250926T210000
DTSTAMP:20250926T200000
DTSTART:20250926T200000
LOCATION:210 Collège de Beausobre MORGES
PRIORITY:5
SEQUENCE:0
SUMMARY:MOSCHIMÖ A1  -  BANZAI A1
TRANSP:OPAQUE
UID:502820250926T20000020250926T210000
BEGIN:VALARM
TRIGGER:-PT1440M
ACTION:DISPLAY
DESCRIPTION:Reminder
END:VALARM
END:VEVENT
BEGIN:VEVENT
CLASS:PUBLIC
CREATED:20260420T150400
DESCRIPTION:Match 5013 | 
DTEND:20250926T210000
DTSTAMP:20250926T200000
DTSTART:20250926T200000
LOCATION:222 Salle polyvalente Tolochenaz TOLOCHENAZ
PRIORITY:5
SEQUENCE:0
SUMMARY:BANZAI A1  -  RENENS A1
TRANSP:OPAQUE
UID:501320250926T20000020250926T210000
BEGIN:VALARM
TRIGGER:-PT1440M
ACTION:DISPLAY
DESCRIPTION:Reminder
END:VALARM
END:VEVENT
BEGIN:VEVENT
CLASS:PUBLIC
CREATED:20260420T150400
DESCRIPTION:Match 5042 | 
DTEND:20251001T210000
DTSTAMP:20251001T200000
DTSTART:20251001T200000
LOCATION:181 Collège de la Carrière CRISSIER
PRIORITY:5
SEQUENCE:0
SUMMARY:LES LIMACES A1  -  BANZAI A1
TRANSP:OPAQUE
UID:504220251001T20000020251001T210000
BEGIN:VALARM
TRIGGER:-PT1440M
ACTION:DISPLAY
DESCRIPTION:Reminder
END:VALARM
END:VEVENT
BEGIN:VEVENT
CLASS:PUBLIC
CREATED:20260420T150400
DESCRIPTION:Match 5015 | 
DTEND:20251017T210000
DTSTAMP:20251017T200000
DTSTART:20251017T200000
LOCATION:222 Salle polyvalente Tolochenaz TOLOCHENAZ
PRIORITY:5
SEQUENCE:0
SUMMARY:BANZAI A1  -  LES DERBON A1
TRANSP:OPAQUE
UID:501520251017T20000020251017T210000
BEGIN:VALARM
TRIGGER:-PT1440M
ACTION:DISPLAY
DESCRIPTION:Reminder
END:VALARM
END:VEVENT
BEGIN:VEVENT
CLASS:PUBLIC
CREATED:20260420T150400
DESCRIPTION:Match 5014 | 
DTEND:20251107T210000
DTSTAMP:20251107T200000
DTSTART:20251107T200000
LOCATION:222 Salle polyvalente Tolochenaz TOLOCHENAZ
PRIORITY:5
SEQUENCE:0
SUMMARY:BANZAI A1  -  MORGESTOURIX A1
TRANSP:OPAQUE
UID:501420251107T20000020251107T210000
BEGIN:VALARM
TRIGGER:-PT1440M
ACTION:DISPLAY
DESCRIPTION:Reminder
END:VALARM
END:VEVENT
BEGIN:VEVENT
CLASS:PUBLIC
CREATED:20260420T150400
DESCRIPTION:Match 7517 | BANZAI A1 / BALLAIGUES B1 arbitre Detente   222 Salle polyvalente Tolochenaz Chemin des Plantées 1 TOLOCHENAZ
DTEND:20251113T210000
DTSTAMP:20251113T200000
DTSTART:20251113T200000
LOCATION:222 Salle polyvalente Tolochenaz TOLOCHENAZ
PRIORITY:5
SEQUENCE:0
SUMMARY:BANZAI A1  -  BALLAIGUES B1
TRANSP:OPAQUE
UID:751720251113T20000020251113T210000
BEGIN:VALARM
TRIGGER:-PT1440M
ACTION:DISPLAY
DESCRIPTION:Reminder
END:VALARM
END:VEVENT
BEGIN:VEVENT
CLASS:PUBLIC
CREATED:20260420T150400
DESCRIPTION:Match 5003 | 
DTEND:20251126T210000
DTSTAMP:20251126T200000
DTSTART:20251126T200000
LOCATION:310 En Praz-Corbet, Chéserex CHESEREX
PRIORITY:5
SEQUENCE:0
SUMMARY:LES KESTATAS A1  -  BANZAI A1
TRANSP:OPAQUE
UID:500320251126T20000020251126T210000
BEGIN:VALARM
TRIGGER:-PT1440M
ACTION:DISPLAY
DESCRIPTION:Reminder
END:VALARM
END:VEVENT
BEGIN:VEVENT
CLASS:PUBLIC
CREATED:20260420T150400
DESCRIPTION:Match 7533 | BANZAI A1 / TEQUIBUBU A2 arbitre Detente   222 Salle polyvalente Tolochenaz Chemin des Plantées 1 TOLOCHENAZ
DTEND:20251204T210000
DTSTAMP:20251204T200000
DTSTART:20251204T200000
LOCATION:222 Salle polyvalente Tolochenaz TOLOCHENAZ
PRIORITY:5
SEQUENCE:0
SUMMARY:BANZAI A1  -  TEQUIBUBU A2
TRANSP:OPAQUE
UID:753320251204T20000020251204T210000
BEGIN:VALARM
TRIGGER:-PT1440M
ACTION:DISPLAY
DESCRIPTION:Reminder
END:VALARM
END:VEVENT
BEGIN:VEVENT
CLASS:PUBLIC
CREATED:20260420T150400
DESCRIPTION:Match 5011 | 
DTEND:20260116T210000
DTSTAMP:20260116T200000
DTSTART:20260116T200000
LOCATION:155 Collège du Léman, Sud RENENS
PRIORITY:5
SEQUENCE:0
SUMMARY:RENENS A1  -  BANZAI A1
TRANSP:OPAQUE
UID:501120260116T20000020260116T210000
BEGIN:VALARM
TRIGGER:-PT1440M
ACTION:DISPLAY
DESCRIPTION:Reminder
END:VALARM
END:VEVENT
BEGIN:VEVENT
CLASS:PUBLIC
CREATED:20260420T150400
DESCRIPTION:Match 5016 | 
DTEND:20260124T210000
DTSTAMP:20260124T200000
DTSTART:20260124T200000
LOCATION:222 Salle polyvalente Tolochenaz TOLOCHENAZ
PRIORITY:5
SEQUENCE:0
SUMMARY:BANZAI A1  -  MOSCHIMÖ A1
TRANSP:OPAQUE
UID:501620260124T20000020260124T210000
BEGIN:VALARM
TRIGGER:-PT1440M
ACTION:DISPLAY
DESCRIPTION:Reminder
END:VALARM
END:VEVENT
BEGIN:VEVENT
CLASS:PUBLIC
CREATED:20260420T150400
DESCRIPTION:Match 7541 | BANZAI A1 / ORBELIX A2 arbitre Detente   222 Salle polyvalente Tolochenaz Chemin des Plantées 1 TOLOCHENAZ
DTEND:20260129T210000
DTSTAMP:20260129T200000
DTSTART:20260129T200000
LOCATION:222 Salle polyvalente Tolochenaz TOLOCHENAZ
PRIORITY:5
SEQUENCE:0
SUMMARY:BANZAI A1  -  ORBELIX A2
TRANSP:OPAQUE
UID:754120260129T20000020260129T210000
BEGIN:VALARM
TRIGGER:-PT1440M
ACTION:DISPLAY
DESCRIPTION:Reminder
END:VALARM
END:VEVENT
BEGIN:VEVENT
CLASS:PUBLIC
CREATED:20260420T150400
DESCRIPTION:Match 5017 | 
DTEND:20260211T210000
DTSTAMP:20260211T200000
DTSTART:20260211T200000
LOCATION:222 Salle polyvalente Tolochenaz TOLOCHENAZ
PRIORITY:5
SEQUENCE:0
SUMMARY:BANZAI A1  -  LES LIMACES A1
TRANSP:OPAQUE
UID:501720260211T20000020260211T210000
BEGIN:VALARM
TRIGGER:-PT1440M
ACTION:DISPLAY
DESCRIPTION:Reminder
END:VALARM
END:VEVENT
BEGIN:VEVENT
CLASS:PUBLIC
CREATED:20260420T150400
DESCRIPTION:Match 5035 | 
DTEND:20260305T210000
DTSTAMP:20260305T200000
DTSTART:20260305T200000
LOCATION:351 La Raisse Armand,  Gauche LE SENTIER
PRIORITY:5
SEQUENCE:0
SUMMARY:LES DERBON A1  -  BANZAI A1
TRANSP:OPAQUE
UID:503520260305T20000020260305T210000
BEGIN:VALARM
TRIGGER:-PT1440M
ACTION:DISPLAY
DESCRIPTION:Reminder
END:VALARM
END:VEVENT
BEGIN:VEVENT
CLASS:PUBLIC
CREATED:20260420T150400
DESCRIPTION:Match 5021 | 
DTEND:20260316T210000
DTSTAMP:20260316T200000
DTSTART:20260316T200000
LOCATION:211 Collège de Chanel MORGES
PRIORITY:5
SEQUENCE:0
SUMMARY:MORGESTOURIX A1  -  BANZAI A1
TRANSP:OPAQUE
UID:502120260316T20000020260316T210000
BEGIN:VALARM
TRIGGER:-PT1440M
ACTION:DISPLAY
DESCRIPTION:Reminder
END:VALARM
END:VEVENT
BEGIN:VEVENT
CLASS:PUBLIC
CREATED:20260420T150400
DESCRIPTION:Match 5018 | 
DTEND:20260326T210000
DTSTAMP:20260326T200000
DTSTART:20260326T200000
LOCATION:222 Salle polyvalente Tolochenaz TOLOCHENAZ
PRIORITY:5
SEQUENCE:0
SUMMARY:BANZAI A1  -  LES KESTATAS A1
TRANSP:OPAQUE
UID:501820260326T20000020260326T210000
BEGIN:VALARM
TRIGGER:-PT1440M
ACTION:DISPLAY
DESCRIPTION:Reminder
END:VALARM
END:VEVENT
BEGIN:VEVENT
CLASS:PUBLIC
CREATED:20260420T150400
DESCRIPTION:Match 7545 | BANZAI A1 / KEEPCOOL A2 arbitre Detente   222 Salle polyvalente Tolochenaz Chemin des Plantées 1 TOLOCHENAZ
DTEND:20260326T210000
DTSTAMP:20260326T200000
DTSTART:20260326T200000
LOCATION:222 Salle polyvalente Tolochenaz TOLOCHENAZ
PRIORITY:5
SEQUENCE:0
SUMMARY:BANZAI A1  -  KEEPCOOL A2
TRANSP:OPAQUE
UID:754520260326T20000020260326T210000
BEGIN:VALARM
TRIGGER:-PT1440M
ACTION:DISPLAY
DESCRIPTION:Reminder
END:VALARM
END:VEVENT
END:VCALENDAR
