BEGIN:VCALENDAR
PRODID:-//SVRV//Calendrier des matchs//FR
VERSION:2.0
METHOD:PUBLISH
X-MS-OLK-FORCEINSPECTOROPEN:TRUE
BEGIN:VEVENT
CLASS:PUBLIC
CREATED:20260420T150800
DESCRIPTION:Match 7511 | POWERBALL B2 / LES IMPITOYABLES...Ou PAS A3 arbitre Detente   176 Collège de la Plaine, Salle A Rte de la Plaine 2 CHAVANNES-RENENS
DTEND:20250924T210000
DTSTAMP:20250924T200000
DTSTART:20250924T200000
LOCATION:176 Collège de la Plaine, Salle A CHAVANNES-RENENS
PRIORITY:5
SEQUENCE:0
SUMMARY:POWERBALL B2  -  LES IMPITOYABLES...Ou PAS A3
TRANSP:OPAQUE
UID:751120250924T20000020250924T210000
BEGIN:VALARM
TRIGGER:-PT1440M
ACTION:DISPLAY
DESCRIPTION:Reminder
END:VALARM
END:VEVENT
BEGIN:VEVENT
CLASS:PUBLIC
CREATED:20260420T150800
DESCRIPTION:Match 5410 | 
DTEND:20250926T210000
DTSTAMP:20250926T200000
DTSTART:20250926T200000
LOCATION:176 Collège de la Plaine, Salle A CHAVANNES-RENENS
PRIORITY:5
SEQUENCE:0
SUMMARY:POWERBALL B2  -  LES COYOTES B2
TRANSP:OPAQUE
UID:541020250926T20000020250926T210000
BEGIN:VALARM
TRIGGER:-PT1440M
ACTION:DISPLAY
DESCRIPTION:Reminder
END:VALARM
END:VEVENT
BEGIN:VEVENT
CLASS:PUBLIC
CREATED:20260420T150800
DESCRIPTION:Match 5428 | 
DTEND:20251007T210000
DTSTAMP:20251007T200000
DTSTART:20251007T200000
LOCATION:199 Collège Court Champ ECHALLENS
PRIORITY:5
SEQUENCE:0
SUMMARY:KAWAX B2  -  POWERBALL B2
TRANSP:OPAQUE
UID:542820251007T20000020251007T210000
BEGIN:VALARM
TRIGGER:-PT1440M
ACTION:DISPLAY
DESCRIPTION:Reminder
END:VALARM
END:VEVENT
BEGIN:VEVENT
CLASS:PUBLIC
CREATED:20260420T150800
DESCRIPTION:Match 5438 | 
DTEND:20251110T210000
DTSTAMP:20251110T200000
DTSTART:20251110T200000
LOCATION:104 Gymnase Auguste Piccard-rez gauche LAUSANNE
PRIORITY:5
SEQUENCE:0
SUMMARY:LES KAWAINEES B2  -  POWERBALL B2
TRANSP:OPAQUE
UID:543820251110T20000020251110T210000
BEGIN:VALARM
TRIGGER:-PT1440M
ACTION:DISPLAY
DESCRIPTION:Reminder
END:VALARM
END:VEVENT
BEGIN:VEVENT
CLASS:PUBLIC
CREATED:20260420T150800
DESCRIPTION:Match 5408 | 
DTEND:20251116T210000
DTSTAMP:20251116T200000
DTSTART:20251116T200000
LOCATION:176 Collège de la Plaine, Salle A CHAVANNES-RENENS
PRIORITY:5
SEQUENCE:0
SUMMARY:POWERBALL B2  -  EHL B2
TRANSP:OPAQUE
UID:540820251116T20000020251116T210000
BEGIN:VALARM
TRIGGER:-PT1440M
ACTION:DISPLAY
DESCRIPTION:Reminder
END:VALARM
END:VEVENT
BEGIN:VEVENT
CLASS:PUBLIC
CREATED:20260420T150800
DESCRIPTION:Match 5413 | 
DTEND:20251209T210000
DTSTAMP:20251209T200000
DTSTART:20251209T200000
LOCATION:317 Salle des Condémines GILLY
PRIORITY:5
SEQUENCE:0
SUMMARY:COOL VERT B2  -  POWERBALL B2
TRANSP:OPAQUE
UID:541320251209T20000020251209T210000
BEGIN:VALARM
TRIGGER:-PT1440M
ACTION:DISPLAY
DESCRIPTION:Reminder
END:VALARM
END:VEVENT
BEGIN:VEVENT
CLASS:PUBLIC
CREATED:20260420T150800
DESCRIPTION:Match 5404 | 
DTEND:20260116T210000
DTSTAMP:20260116T200000
DTSTART:20260116T200000
LOCATION:106 Gymnase du Bugnon LAUSANNE
PRIORITY:5
SEQUENCE:0
SUMMARY:LES COYOTES B2  -  POWERBALL B2
TRANSP:OPAQUE
UID:540420260116T20000020260116T210000
BEGIN:VALARM
TRIGGER:-PT1440M
ACTION:DISPLAY
DESCRIPTION:Reminder
END:VALARM
END:VEVENT
BEGIN:VEVENT
CLASS:PUBLIC
CREATED:20260420T150800
DESCRIPTION:Match 5407 | 
DTEND:20260116T210000
DTSTAMP:20260116T200000
DTSTART:20260116T200000
LOCATION:176 Collège de la Plaine, Salle A CHAVANNES-RENENS
PRIORITY:5
SEQUENCE:0
SUMMARY:POWERBALL B2  -  CRACOUS B2
TRANSP:OPAQUE
UID:540720260116T20000020260116T210000
BEGIN:VALARM
TRIGGER:-PT1440M
ACTION:DISPLAY
DESCRIPTION:Reminder
END:VALARM
END:VEVENT
BEGIN:VEVENT
CLASS:PUBLIC
CREATED:20260420T150800
DESCRIPTION:Match 5412 | 
DTEND:20260121T210000
DTSTAMP:20260121T200000
DTSTART:20260121T200000
LOCATION:176 Collège de la Plaine, Salle A CHAVANNES-RENENS
PRIORITY:5
SEQUENCE:0
SUMMARY:POWERBALL B2  -  KAWAX B2
TRANSP:OPAQUE
UID:541220260121T20000020260121T210000
BEGIN:VALARM
TRIGGER:-PT1440M
ACTION:DISPLAY
DESCRIPTION:Reminder
END:VALARM
END:VEVENT
BEGIN:VEVENT
CLASS:PUBLIC
CREATED:20260420T150800
DESCRIPTION:Match 5422 | 
DTEND:20260305T210000
DTSTAMP:20260305T200000
DTSTART:20260305T200000
LOCATION:115 Salle de Bois-Murat EPALINGES
PRIORITY:5
SEQUENCE:0
SUMMARY:CRACOUS B2  -  POWERBALL B2
TRANSP:OPAQUE
UID:542220260305T20000020260305T210000
BEGIN:VALARM
TRIGGER:-PT1440M
ACTION:DISPLAY
DESCRIPTION:Reminder
END:VALARM
END:VEVENT
BEGIN:VEVENT
CLASS:PUBLIC
CREATED:20260420T150800
DESCRIPTION:Match 5409 | 
DTEND:20260312T210000
DTSTAMP:20260312T200000
DTSTART:20260312T200000
LOCATION:176 Collège de la Plaine, Salle A CHAVANNES-RENENS
PRIORITY:5
SEQUENCE:0
SUMMARY:POWERBALL B2  -  LES KAWAINEES B2
TRANSP:OPAQUE
UID:540920260312T20000020260312T210000
BEGIN:VALARM
TRIGGER:-PT1440M
ACTION:DISPLAY
DESCRIPTION:Reminder
END:VALARM
END:VEVENT
BEGIN:VEVENT
CLASS:PUBLIC
CREATED:20260420T150800
DESCRIPTION:Match 5431 | 
DTEND:20260321T210000
DTSTAMP:20260321T200000
DTSTART:20260321T200000
LOCATION:114 EHL Ecole hôtelière LAUSANNE
PRIORITY:5
SEQUENCE:0
SUMMARY:EHL B2  -  POWERBALL B2
TRANSP:OPAQUE
UID:543120260321T20000020260321T210000
BEGIN:VALARM
TRIGGER:-PT1440M
ACTION:DISPLAY
DESCRIPTION:Reminder
END:VALARM
END:VEVENT
BEGIN:VEVENT
CLASS:PUBLIC
CREATED:20260420T150800
DESCRIPTION:Match 5411 | 
DTEND:20260325T210000
DTSTAMP:20260325T200000
DTSTART:20260325T200000
LOCATION:176 Collège de la Plaine, Salle A CHAVANNES-RENENS
PRIORITY:5
SEQUENCE:0
SUMMARY:POWERBALL B2  -  COOL VERT B2
TRANSP:OPAQUE
UID:541120260325T20000020260325T210000
BEGIN:VALARM
TRIGGER:-PT1440M
ACTION:DISPLAY
DESCRIPTION:Reminder
END:VALARM
END:VEVENT
END:VCALENDAR
