BEGIN:VCALENDAR
PRODID:-//SVRV//Calendrier des matchs//FR
VERSION:2.0
METHOD:PUBLISH
X-MS-OLK-FORCEINSPECTOROPEN:TRUE
BEGIN:VEVENT
CLASS:PUBLIC
CREATED:20260420T145700
DESCRIPTION:Match 5326 | 
DTEND:20250916T210000
DTSTAMP:20250916T200000
DTSTART:20250916T200000
LOCATION:455 Salle gym Ballaigues BALLAIGUES
PRIORITY:5
SEQUENCE:0
SUMMARY:BALLAIGUES B1  -  LES MATOUS DE CUARNENS B1
TRANSP:OPAQUE
UID:532620250916T20000020250916T210000
BEGIN:VALARM
TRIGGER:-PT1440M
ACTION:DISPLAY
DESCRIPTION:Reminder
END:VALARM
END:VEVENT
BEGIN:VEVENT
CLASS:PUBLIC
CREATED:20260420T145700
DESCRIPTION:Match 7501 | BALLAIGUES B1 / Le VAUD-ka C1 arbitre Detente   455 Salle gym Ballaigues Grand-Rue 23 BALLAIGUES
DTEND:20251006T210000
DTSTAMP:20251006T200000
DTSTART:20251006T200000
LOCATION:455 Salle gym Ballaigues BALLAIGUES
PRIORITY:5
SEQUENCE:0
SUMMARY:BALLAIGUES B1  -  Le VAUD-ka C1
TRANSP:OPAQUE
UID:750120251006T20000020251006T210000
BEGIN:VALARM
TRIGGER:-PT1440M
ACTION:DISPLAY
DESCRIPTION:Reminder
END:VALARM
END:VEVENT
BEGIN:VEVENT
CLASS:PUBLIC
CREATED:20260420T145700
DESCRIPTION:Match 5316 | 
DTEND:20251010T210000
DTSTAMP:20251010T200000
DTSTART:20251010T200000
LOCATION:445 Salle polyvalente Eclepens ECLEPENS
PRIORITY:5
SEQUENCE:0
SUMMARY:C’T’EQUIPE B1  -  BALLAIGUES B1
TRANSP:OPAQUE
UID:531620251010T20000020251010T210000
BEGIN:VALARM
TRIGGER:-PT1440M
ACTION:DISPLAY
DESCRIPTION:Reminder
END:VALARM
END:VEVENT
BEGIN:VEVENT
CLASS:PUBLIC
CREATED:20260420T145700
DESCRIPTION:Match 5323 | 
DTEND:20251103T210000
DTSTAMP:20251103T200000
DTSTART:20251103T200000
LOCATION:455 Salle gym Ballaigues BALLAIGUES
PRIORITY:5
SEQUENCE:0
SUMMARY:BALLAIGUES B1  -  APPLES'OSE B1
TRANSP:OPAQUE
UID:532320251103T20000020251103T210000
BEGIN:VALARM
TRIGGER:-PT1440M
ACTION:DISPLAY
DESCRIPTION:Reminder
END:VALARM
END:VEVENT
BEGIN:VEVENT
CLASS:PUBLIC
CREATED:20260420T145700
DESCRIPTION:Match 5304 | 
DTEND:20251111T210000
DTSTAMP:20251111T200000
DTSTART:20251111T200000
LOCATION:206 Salle Tribord Préverenges PREVERENGES
PRIORITY:5
SEQUENCE:0
SUMMARY:RELAXE'S B1  -  BALLAIGUES B1
TRANSP:OPAQUE
UID:530420251111T20000020251111T210000
BEGIN:VALARM
TRIGGER:-PT1440M
ACTION:DISPLAY
DESCRIPTION:Reminder
END:VALARM
END:VEVENT
BEGIN:VEVENT
CLASS:PUBLIC
CREATED:20260420T145700
DESCRIPTION:Match 7517 | BANZAI A1 / BALLAIGUES B1 arbitre Detente   222 Salle polyvalente Tolochenaz Chemin des Plantées 1 TOLOCHENAZ
DTEND:20251113T210000
DTSTAMP:20251113T200000
DTSTART:20251113T200000
LOCATION:222 Salle polyvalente Tolochenaz TOLOCHENAZ
PRIORITY:5
SEQUENCE:0
SUMMARY:BANZAI A1  -  BALLAIGUES B1
TRANSP:OPAQUE
UID:751720251113T20000020251113T210000
BEGIN:VALARM
TRIGGER:-PT1440M
ACTION:DISPLAY
DESCRIPTION:Reminder
END:VALARM
END:VEVENT
BEGIN:VEVENT
CLASS:PUBLIC
CREATED:20260420T145700
DESCRIPTION:Match 5329 | 
DTEND:20251121T210000
DTSTAMP:20251121T200000
DTSTART:20251121T200000
LOCATION:211 Collège de Chanel MORGES
PRIORITY:5
SEQUENCE:0
SUMMARY:MORDS PAS B1  -  BALLAIGUES B1
TRANSP:OPAQUE
UID:532920251121T20000020251121T210000
BEGIN:VALARM
TRIGGER:-PT1440M
ACTION:DISPLAY
DESCRIPTION:Reminder
END:VALARM
END:VEVENT
BEGIN:VEVENT
CLASS:PUBLIC
CREATED:20260420T145700
DESCRIPTION:Match 5314 | 
DTEND:20251205T210000
DTSTAMP:20251205T200000
DTSTART:20251205T200000
LOCATION:417 Salle de la Passerelle YVERDON-LES-BAINS
PRIORITY:5
SEQUENCE:0
SUMMARY:LES RENARDS B1  -  BALLAIGUES B1
TRANSP:OPAQUE
UID:531420251205T20000020251205T210000
BEGIN:VALARM
TRIGGER:-PT1440M
ACTION:DISPLAY
DESCRIPTION:Reminder
END:VALARM
END:VEVENT
BEGIN:VEVENT
CLASS:PUBLIC
CREATED:20260420T145700
DESCRIPTION:Match 5325 | 
DTEND:20251216T210000
DTSTAMP:20251216T200000
DTSTART:20251216T200000
LOCATION:455 Salle gym Ballaigues BALLAIGUES
PRIORITY:5
SEQUENCE:0
SUMMARY:BALLAIGUES B1  -  LES EMBAULMES B1
TRANSP:OPAQUE
UID:532520251216T20000020251216T210000
BEGIN:VALARM
TRIGGER:-PT1440M
ACTION:DISPLAY
DESCRIPTION:Reminder
END:VALARM
END:VEVENT
BEGIN:VEVENT
CLASS:PUBLIC
CREATED:20260420T145700
DESCRIPTION:Match 5350 | 
DTEND:20260107T204500
DTSTAMP:20260107T194500
DTSTART:20260107T194500
LOCATION:515 Salle polyvalente de Cuarnens CUARNENS
PRIORITY:5
SEQUENCE:0
SUMMARY:LES MATOUS DE CUARNENS B1  -  BALLAIGUES B1
TRANSP:OPAQUE
UID:535020260107T19450020260107T204500
BEGIN:VALARM
TRIGGER:-PT1440M
ACTION:DISPLAY
DESCRIPTION:Reminder
END:VALARM
END:VEVENT
BEGIN:VEVENT
CLASS:PUBLIC
CREATED:20260420T145700
DESCRIPTION:Match 5349 | 
DTEND:20260124T210000
DTSTAMP:20260124T200000
DTSTART:20260124T200000
LOCATION:804 Collège du Léman APPLES
PRIORITY:5
SEQUENCE:0
SUMMARY:APPLES'OSE B1  -  BALLAIGUES B1
TRANSP:OPAQUE
UID:534920260124T20000020260124T210000
BEGIN:VALARM
TRIGGER:-PT1440M
ACTION:DISPLAY
DESCRIPTION:Reminder
END:VALARM
END:VEVENT
BEGIN:VEVENT
CLASS:PUBLIC
CREATED:20260420T145700
DESCRIPTION:Match 5328 | 
DTEND:20260203T210000
DTSTAMP:20260203T200000
DTSTART:20260203T200000
LOCATION:455 Salle gym Ballaigues BALLAIGUES
PRIORITY:5
SEQUENCE:0
SUMMARY:BALLAIGUES B1  -  LES RENARDS B1
TRANSP:OPAQUE
UID:532820260203T20000020260203T210000
BEGIN:VALARM
TRIGGER:-PT1440M
ACTION:DISPLAY
DESCRIPTION:Reminder
END:VALARM
END:VEVENT
BEGIN:VEVENT
CLASS:PUBLIC
CREATED:20260420T145700
DESCRIPTION:Match 5327 | 
DTEND:20260224T210000
DTSTAMP:20260224T200000
DTSTART:20260224T200000
LOCATION:455 Salle gym Ballaigues BALLAIGUES
PRIORITY:5
SEQUENCE:0
SUMMARY:BALLAIGUES B1  -  C’T’EQUIPE B1
TRANSP:OPAQUE
UID:532720260224T20000020260224T210000
BEGIN:VALARM
TRIGGER:-PT1440M
ACTION:DISPLAY
DESCRIPTION:Reminder
END:VALARM
END:VEVENT
BEGIN:VEVENT
CLASS:PUBLIC
CREATED:20260420T145700
DESCRIPTION:Match 5324 | 
DTEND:20260317T210000
DTSTAMP:20260317T200000
DTSTART:20260317T200000
LOCATION:455 Salle gym Ballaigues BALLAIGUES
PRIORITY:5
SEQUENCE:0
SUMMARY:BALLAIGUES B1  -  RELAXE'S B1
TRANSP:OPAQUE
UID:532420260317T20000020260317T210000
BEGIN:VALARM
TRIGGER:-PT1440M
ACTION:DISPLAY
DESCRIPTION:Reminder
END:VALARM
END:VEVENT
BEGIN:VEVENT
CLASS:PUBLIC
CREATED:20260420T145700
DESCRIPTION:Match 5322 | 
DTEND:20260323T210000
DTSTAMP:20260323T200000
DTSTART:20260323T200000
LOCATION:455 Salle gym Ballaigues BALLAIGUES
PRIORITY:5
SEQUENCE:0
SUMMARY:BALLAIGUES B1  -  MORDS PAS B1
TRANSP:OPAQUE
UID:532220260323T20000020260323T210000
BEGIN:VALARM
TRIGGER:-PT1440M
ACTION:DISPLAY
DESCRIPTION:Reminder
END:VALARM
END:VEVENT
BEGIN:VEVENT
CLASS:PUBLIC
CREATED:20260420T145700
DESCRIPTION:Match 5341 | 
DTEND:20260402T210000
DTSTAMP:20260402T200000
DTSTART:20260402T200000
LOCATION:456 Salle gym Baulmes BAULMES
PRIORITY:5
SEQUENCE:0
SUMMARY:LES EMBAULMES B1  -  BALLAIGUES B1
TRANSP:OPAQUE
UID:534120260402T20000020260402T210000
BEGIN:VALARM
TRIGGER:-PT1440M
ACTION:DISPLAY
DESCRIPTION:Reminder
END:VALARM
END:VEVENT
END:VCALENDAR
