BEGIN:VCALENDAR
PRODID:-//SVRV//Calendrier des matchs//FR
VERSION:2.0
METHOD:PUBLISH
X-MS-OLK-FORCEINSPECTOROPEN:TRUE
BEGIN:VEVENT
CLASS:PUBLIC
CREATED:20260420T145900
DESCRIPTION:Match 5115 | 
DTEND:20250930T210000
DTSTAMP:20250930T200000
DTSTART:20250930T200000
LOCATION:191 Salle de Tatironne salle 1 BUSSIGNY
PRIORITY:5
SEQUENCE:0
SUMMARY:TEQUIBUBU A2  -  KEEPCOOL A2
TRANSP:OPAQUE
UID:511520250930T20000020250930T210000
BEGIN:VALARM
TRIGGER:-PT1440M
ACTION:DISPLAY
DESCRIPTION:Reminder
END:VALARM
END:VEVENT
BEGIN:VEVENT
CLASS:PUBLIC
CREATED:20260420T145900
DESCRIPTION:Match 5133 | 
DTEND:20251027T210000
DTSTAMP:20251027T200000
DTSTART:20251027T200000
LOCATION:176 Collège de la Plaine, Salle A CHAVANNES-RENENS
PRIORITY:5
SEQUENCE:0
SUMMARY:KEEPCOOL A2  -  ORBELIX A2
TRANSP:OPAQUE
UID:513320251027T20000020251027T210000
BEGIN:VALARM
TRIGGER:-PT1440M
ACTION:DISPLAY
DESCRIPTION:Reminder
END:VALARM
END:VEVENT
BEGIN:VEVENT
CLASS:PUBLIC
CREATED:20260420T145900
DESCRIPTION:Match 5123 | 
DTEND:20251116T210000
DTSTAMP:20251116T200000
DTSTART:20251116T200000
LOCATION:163 Collège Grand-Pré, salle 3 PRILLY
PRIORITY:5
SEQUENCE:0
SUMMARY:MIC-MAC A2  -  KEEPCOOL A2
TRANSP:OPAQUE
UID:512320251116T20000020251116T210000
BEGIN:VALARM
TRIGGER:-PT1440M
ACTION:DISPLAY
DESCRIPTION:Reminder
END:VALARM
END:VEVENT
BEGIN:VEVENT
CLASS:PUBLIC
CREATED:20260420T145900
DESCRIPTION:Match 7527 | DINOS C2 / KEEPCOOL A2 arbitre Detente   511 Salle du Pré-aux-Moines, Salle B Rte de Morges COSSONAY
DTEND:20251118T210000
DTSTAMP:20251118T200000
DTSTART:20251118T200000
LOCATION:511 Salle du Pré-aux-Moines, Salle B COSSONAY
PRIORITY:5
SEQUENCE:0
SUMMARY:DINOS C2  -  KEEPCOOL A2
TRANSP:OPAQUE
UID:752720251118T20000020251118T210000
BEGIN:VALARM
TRIGGER:-PT1440M
ACTION:DISPLAY
DESCRIPTION:Reminder
END:VALARM
END:VEVENT
BEGIN:VEVENT
CLASS:PUBLIC
CREATED:20260420T145900
DESCRIPTION:Match 5131 | 
DTEND:20251125T210000
DTSTAMP:20251125T200000
DTSTART:20251125T200000
LOCATION:176 Collège de la Plaine, Salle A CHAVANNES-RENENS
PRIORITY:5
SEQUENCE:0
SUMMARY:KEEPCOOL A2  -  BUTTA  LA PASTA A2
TRANSP:OPAQUE
UID:513120251125T20000020251125T210000
BEGIN:VALARM
TRIGGER:-PT1440M
ACTION:DISPLAY
DESCRIPTION:Reminder
END:VALARM
END:VEVENT
BEGIN:VEVENT
CLASS:PUBLIC
CREATED:20260420T145900
DESCRIPTION:Match 5134 | 
DTEND:20251201T200000
DTSTAMP:20251201T190000
DTSTART:20251201T190000
LOCATION:176 Collège de la Plaine, Salle A CHAVANNES-RENENS
PRIORITY:5
SEQUENCE:0
SUMMARY:KEEPCOOL A2  -  SUSHIS A2
TRANSP:OPAQUE
UID:513420251201T19000020251201T200000
BEGIN:VALARM
TRIGGER:-PT1440M
ACTION:DISPLAY
DESCRIPTION:Reminder
END:VALARM
END:VEVENT
BEGIN:VEVENT
CLASS:PUBLIC
CREATED:20260420T145900
DESCRIPTION:Match 7538 | KEEPCOOL A2 / MORDS PAS B1 arbitre Detente   176 Collège de la Plaine, Salle A Rte de la Plaine 2 CHAVANNES-RENENS
DTEND:20251208T200000
DTSTAMP:20251208T190000
DTSTART:20251208T190000
LOCATION:176 Collège de la Plaine, Salle A CHAVANNES-RENENS
PRIORITY:5
SEQUENCE:0
SUMMARY:KEEPCOOL A2  -  MORDS PAS B1
TRANSP:OPAQUE
UID:753820251208T19000020251208T200000
BEGIN:VALARM
TRIGGER:-PT1440M
ACTION:DISPLAY
DESCRIPTION:Reminder
END:VALARM
END:VEVENT
BEGIN:VEVENT
CLASS:PUBLIC
CREATED:20260420T145900
DESCRIPTION:Match 5128 | 
DTEND:20260116T210000
DTSTAMP:20260116T200000
DTSTART:20260116T200000
LOCATION:450 Salle omnisports du Puisoir, Salle 1 ORBE
PRIORITY:5
SEQUENCE:0
SUMMARY:ORBELIX A2  -  KEEPCOOL A2
TRANSP:OPAQUE
UID:512820260116T20000020260116T210000
BEGIN:VALARM
TRIGGER:-PT1440M
ACTION:DISPLAY
DESCRIPTION:Reminder
END:VALARM
END:VEVENT
BEGIN:VEVENT
CLASS:PUBLIC
CREATED:20260420T145900
DESCRIPTION:Match 5106 | 
DTEND:20260120T210000
DTSTAMP:20260120T200000
DTSTART:20260120T200000
LOCATION:211 Collège de Chanel MORGES
PRIORITY:5
SEQUENCE:0
SUMMARY:VOLDEMORGES A2  -  KEEPCOOL A2
TRANSP:OPAQUE
UID:510620260120T20000020260120T210000
BEGIN:VALARM
TRIGGER:-PT1440M
ACTION:DISPLAY
DESCRIPTION:Reminder
END:VALARM
END:VEVENT
BEGIN:VEVENT
CLASS:PUBLIC
CREATED:20260420T145900
DESCRIPTION:Match 5140 | 
DTEND:20260120T210000
DTSTAMP:20260120T200000
DTSTART:20260120T200000
LOCATION:530 Salle de gym Rionzi LE MONT
PRIORITY:5
SEQUENCE:0
SUMMARY:SUSHIS A2  -  KEEPCOOL A2
TRANSP:OPAQUE
UID:514020260120T20000020260120T210000
BEGIN:VALARM
TRIGGER:-PT1440M
ACTION:DISPLAY
DESCRIPTION:Reminder
END:VALARM
END:VEVENT
BEGIN:VEVENT
CLASS:PUBLIC
CREATED:20260420T145900
DESCRIPTION:Match 7543 | LES LARDONS B3 / KEEPCOOL A2 arbitre Detente   465 Salle des Sept Fontaines - BERCHER
DTEND:20260129T210000
DTSTAMP:20260129T200000
DTSTART:20260129T200000
LOCATION:465 Salle des Sept Fontaines BERCHER
PRIORITY:5
SEQUENCE:0
SUMMARY:LES LARDONS B3  -  KEEPCOOL A2
TRANSP:OPAQUE
UID:754320260129T20000020260129T210000
BEGIN:VALARM
TRIGGER:-PT1440M
ACTION:DISPLAY
DESCRIPTION:Reminder
END:VALARM
END:VEVENT
BEGIN:VEVENT
CLASS:PUBLIC
CREATED:20260420T145900
DESCRIPTION:Match 5136 | 
DTEND:20260203T210000
DTSTAMP:20260203T200000
DTSTART:20260203T200000
LOCATION:176 Collège de la Plaine, Salle A CHAVANNES-RENENS
PRIORITY:5
SEQUENCE:0
SUMMARY:KEEPCOOL A2  -  TEQUIBUBU A2
TRANSP:OPAQUE
UID:513620260203T20000020260203T210000
BEGIN:VALARM
TRIGGER:-PT1440M
ACTION:DISPLAY
DESCRIPTION:Reminder
END:VALARM
END:VEVENT
BEGIN:VEVENT
CLASS:PUBLIC
CREATED:20260420T145900
DESCRIPTION:Match 5132 | 
DTEND:20260309T210000
DTSTAMP:20260309T200000
DTSTART:20260309T200000
LOCATION:176 Collège de la Plaine, Salle A CHAVANNES-RENENS
PRIORITY:5
SEQUENCE:0
SUMMARY:KEEPCOOL A2  -  VOLDEMORGES A2
TRANSP:OPAQUE
UID:513220260309T20000020260309T210000
BEGIN:VALARM
TRIGGER:-PT1440M
ACTION:DISPLAY
DESCRIPTION:Reminder
END:VALARM
END:VEVENT
BEGIN:VEVENT
CLASS:PUBLIC
CREATED:20260420T145900
DESCRIPTION:Match 5111 | 
DTEND:20260324T210000
DTSTAMP:20260324T200000
DTSTART:20260324T200000
LOCATION:115 Salle de Bois-Murat EPALINGES
PRIORITY:5
SEQUENCE:0
SUMMARY:BUTTA  LA PASTA A2  -  KEEPCOOL A2
TRANSP:OPAQUE
UID:511120260324T20000020260324T210000
BEGIN:VALARM
TRIGGER:-PT1440M
ACTION:DISPLAY
DESCRIPTION:Reminder
END:VALARM
END:VEVENT
BEGIN:VEVENT
CLASS:PUBLIC
CREATED:20260420T145900
DESCRIPTION:Match 7545 | BANZAI A1 / KEEPCOOL A2 arbitre Detente   222 Salle polyvalente Tolochenaz Chemin des Plantées 1 TOLOCHENAZ
DTEND:20260326T210000
DTSTAMP:20260326T200000
DTSTART:20260326T200000
LOCATION:222 Salle polyvalente Tolochenaz TOLOCHENAZ
PRIORITY:5
SEQUENCE:0
SUMMARY:BANZAI A1  -  KEEPCOOL A2
TRANSP:OPAQUE
UID:754520260326T20000020260326T210000
BEGIN:VALARM
TRIGGER:-PT1440M
ACTION:DISPLAY
DESCRIPTION:Reminder
END:VALARM
END:VEVENT
BEGIN:VEVENT
CLASS:PUBLIC
CREATED:20260420T145900
DESCRIPTION:Match 5135 | 
DTEND:20260331T210000
DTSTAMP:20260331T200000
DTSTART:20260331T200000
LOCATION:176 Collège de la Plaine, Salle A CHAVANNES-RENENS
PRIORITY:5
SEQUENCE:0
SUMMARY:KEEPCOOL A2  -  MIC-MAC A2
TRANSP:OPAQUE
UID:513520260331T20000020260331T210000
BEGIN:VALARM
TRIGGER:-PT1440M
ACTION:DISPLAY
DESCRIPTION:Reminder
END:VALARM
END:VEVENT
END:VCALENDAR
